Workbook

Sheet Aurkibidea
B6: Aurrekontu gauzatzearen estatistika
B8: 2014ko 4. hiruhilabetea
B10: Eusko Jaurlaritza
B12: ► Kapituluen araberako gastu aurrekontuaren gauzatzea
B13: ► Kapituluen araberako sarrera aurrekontuaren gauzatzea
B14: ► Aurrekontuko muntak
B15: ► Kapituluen araberako gastu aurrekontuaren gauzatzearen eboluzioa
B16: ►Kapituluen araberako sarrera aurrekontuaren gauzatzearen eboluzioa
B18: Foru Aldundietako bateratua
B20: ► Kapituluen araberako gastu aurrekontuaren gauzatzea
B21: ► Kapituluen araberako sarrera aurrekontuaren gauzatzea
B22: ► Aurrekontuko muntak
... B32: ► Aurrekontuko muntak

Sheet gastuak EJ
B1: Eusko Jaurlaritza | U1: =Aurkibidea!B8 -> 2014ko 4. hiruhilabetea
B2: Kapituluen araberako gastu aurrekontuaren gauzatzearen egoera
U4: Mila euro
B5: Gastu Kapituluak | F5: 2014 | J5: 2013 | N5: Gauzatze ehunekoa | S5: 14/13 Aldaketa tasa
F6: Aurrekontu eguneratuak | G6: Aitortutako obligazioak | H6: Ordainketak | J6: Aurrekontu eguneratuak | K6: Aitortutako obligazioak | L6: Ordainketak | N6: 2014 | P6: 2013
F7: A | G7: B | H7: C | J7: D | K7: E | L7: F | N7: B/A | O7: C/A | P7: E/D | Q7: F/D | S7: A/D | T7: B/E | U7: C/F
B9: 1 | C9: Langile-gastuak | F9: 1890768.5 | G9: 1884605.2 | H9: 1884580.7 | J9: 1912804.3 | K9: 1867851.9 | L9: 1867805.1 | N9: 99.674029 | O9: 99.672736 | P9: 97.649917 | Q9: 97.647471 | S9: -1.1520159 | T9: 0.89693018 | U9: 0.8981479
B10: 2 | C10: Funtzionamendu-gastuak | F10: 3325384.7 | G10: 3285698 | H10: 3050124.2 | J10: 3292159.5 | K10: 3201299.3 | L10: 2911582.3 | N10: 98.806551 | O10: 91.722445 | P10: 97.240105 | Q10: 88.439893 | S10: 1.0092247 | T10: 2.6363874 | U10: 4.7583033
B11: 3 | C11: Finantza-gastuak | F11: 251881.08 | G11: 251774.04 | H11: 251773.94 | J11: 231348.06 | K11: 221983.59 | L11: 221970.7 | N11: 99.957505 | O11: 99.957462 | P11: 95.952216 | Q11: 95.946646 | S11: 8.875383 | T11: 13.420117 | U11: 13.426654 | AA11: =IF(+K11=0," ",(+G11/K11-1)*100) -> 13.420117 | AC11: =IF(+L11=0," ",(+H11/L11-1)*100) -> 13.426654
B12: 4 | C12: Gastu arruntetarako transf. | F12: 3180568.5 | G12: 3133802.8 | H12: 2989040.4 | J12: 3356167.8 | K12: 3002978.8 | L12: 2831073.2 | N12: 98.529643 | O12: 93.978182 | P12: 89.47642 | Q12: 84.354339 | S12: -5.2321381 | T12: 4.3564722 | U12: 5.5797652
B13: 6 | C13: Inbertsio errealak | F13: 475922.51 | G13: 332039.98 | H13: 269770.56 | J13: 548044.02 | K13: 452645.57 | L13: 361582.19 | N13: 69.767656 | O13: 56.683714 | P13: 82.592923 | Q13: 65.976852 | S13: -13.159801 | T13: -26.644597 | U13: -25.391636
B14: 7 | C14: Kapital eragiketetako transf. | F14: 679268.82 | G14: 600792.89 | H14: 456916.11 | J14: 802141.2 | K14: 457689.79 | L14: 304624.55 | N14: 88.447 | O14: 67.265875 | P14: 57.058507 | Q14: 37.976424 | S14: -15.318049 | T14: 31.266396 | U14: 49.993203
B15: 8 | C15: Finanza-aktiboen aldaketa | F15: 87719.862 | G15: 85020.076 | H15: 85020.076 | J15: 185556.73 | K15: 175087.36 | L15: 175087.36 | N15: 96.922264 | O15: 96.922264 | P15: 94.35786 | Q15: 94.35786 | S15: -52.726122 | T15: -51.44134 | U15: -51.44134
B16: 9 | C16: Finanza-pasiboen aldaketa | F16: 537749.79 | G16: 479804.79 | H16: 479804.79 | J16: 199928.33 | K16: 199928.33 | L16: 199928.33 | N16: 89.224542 | O16: 89.224542 | P16: 99.999999 | Q16: 99.999999 | S16: 168.97128 | T16: 139.98839 | U16: 139.98839
C18: Guztira | F18: 10429264 | G18: 10053538 | H18: 9467030.8 | J18: 10528150 | K18: 9579464.6 | L18: 8873653.7 | N18: 96.397386 | O18: 90.773721 | P18: 90.98906 | Q18: 84.285024 | S18: -0.93925457 | T18: 4.9488471 | U18: 6.6869541
C20: Eragiketa arruntak | F20: 8648602.8 | G20: 8555879.9 | H20: 8175519.3 | J20: 8792479.7 | K20: 8294113.6 | L20: 7832431.2 | N20: 98.927886 | O20: 94.529943 | P20: 94.331905 | Q20: 89.081028 | S20: -1.6363625 | T20: 3.15605 | U20: 4.3803518
C21: Kapital eragiketak | F21: 1155191.3 | G21: 932832.87 | H21: 726686.67 | J21: 1350185.2 | K21: 910335.36 | L21: 666206.74 | N21: 80.751374 | O21: 62.906174 | P21: 67.422999 | Q21: 49.341878 | S21: -14.44201 | T21: 2.4713432 | U21: 9.0782531
C22: Finantza eragiketak | F22: 625469.65 | G22: 564824.87 | H22: 564824.87 | J22: 385485.07 | K22: 375015.69 | L22: 375015.69 | N22: 90.30412 | O22: 90.30412 | P22: 97.284105 | Q22: 97.284105 | S22: 62.255224 | T22: 50.613661 | U22: 50.613661
C24: Guztira | F24: 10429264 | G24: 10053538 | H24: 9467030.8 | J24: 10528150 | K24: 9579464.6 | L24: 8873653.7 | N24: 96.397386 | O24: 90.773721 | P24: 90.98906 | Q24: 84.285024 | S24: -0.93925457 | T24: 4.9488471 | U24: 6.6869541
C26: ◄ itzuli

Sheet sarrerak EJ
B1: Eusko Jaurlaritza | U1: =Aurkibidea!B8 -> 2014ko 4. hiruhilabetea
B2: Kapituluen araberako sarrera aurrekontuaren gauzatzearen egoera
U4: Mila euro
B5: Sarrera kapituluak | F5: 2014 | J5: 2013 | N5: Gauzatze ehunekoa | S5: 14/13 Aldaketa tasa
F6: Aurrekontu eguneratuak | G6: Aitortutako eskubideak | H6: Sartutako eskubideak | J6: Aurrekontu eguneratuak | K6: Aitortutako eskubideak | L6: Sartutako eskubideak | N6: 2014 | P6: 2013
F7: A | G7: B | H7: C | J7: D | K7: E | L7: F | N7: B/A | O7: C/A | P7: E/D | Q7: F/D | S7: A/D | T7: B/E | U7: C/F
B9: 1 | C9: Zuzeneko zergak | G9: 0 | K9: 0
B10: 2 | C10: Zeharkako zergak | F10: 5426.326 | G10: 5699.96 | H10: 3897.967 | J10: 7240 | K10: 6079.095 | L10: 4248.163 | N10: 105.04271 | O10: 71.834368 | P10: 83.965401 | Q10: 58.676285 | S10: -25.050746 | T10: -6.2367014 | U10: -8.243469
B11: 3 | C11: Tasak eta beste sarrera batzuk | F11: 169270.11 | G11: 213372.03 | H11: 160209.17 | J11: 175048.21 | K11: 195658.61 | L11: 155577.92 | N11: 126.05417 | O11: 94.647055 | P11: 111.77413 | Q11: 88.877183 | S11: -3.3008638 | T11: 9.0532286 | U11: 2.9768068
B12: 4 | C12: Transferentzia arruntak | F12: 8391123.3 | G12: 8364077.5 | H12: 8158134.6 | J12: 7924670.3 | K12: 7923013.7 | L12: 7701464.3 | N12: 99.677685 | O12: 97.22339 | P12: 99.979096 | Q12: 97.183404 | S12: 5.8860874 | T12: 5.5668686 | U12: 5.9296547
B13: 5 | C13: Ondare-sarrerak | F13: 45943.956 | G13: 48138.764 | H13: 45654.282 | J13: 70448.347 | K13: 48005.052 | L13: 43025.099 | N13: 104.77714 | O13: 99.369506 | P13: 68.142198 | Q13: 61.073256 | S13: -34.783486 | T13: 0.27853735 | U13: 6.1108122
B14: 6 | C14: Inbertsio errealen besterentzeak | F14: 3200 | G14: 1965.997 | H14: 1965.997 | J14: 2995 | K14: 15.947 | L14: 15.947 | N14: 61.437406 | O14: 61.437406 | P14: 0.53245409 | Q14: 0.53245409 | S14: 6.8447412
B15: 7 | C15: Kapital eragiketetarako transf. | F15: 376404.34 | G15: 298786.11 | H15: 71927.962 | J15: 395308.53 | K15: 397713.11 | L15: 58365.814 | N15: 79.37903 | O15: 19.109228 | P15: 100.60828 | Q15: 14.764623 | S15: -4.7821378 | T15: -24.87396 | U15: 23.236458
B16: 8 | C16: Finantza-aktiboen aldaketa | F16: 122581.76 | G16: 36122.35 | H16: 26550.801 | J16: 23324.589 | K16: 63530.592 | L16: 20470.656 | N16: 29.467964 | O16: 21.659667 | P16: 272.37604 | Q16: 87.764273 | S16: 425.54736 | T16: -43.141802 | U16: 29.701759
B17: 9 | C17: Finantza-pasiboen aldaketa | F17: 1315314 | G17: 1139366.5 | H17: 1139366.5 | J17: 1238241 | K17: 1175253.1 | L17: 1175253.1 | N17: 86.623156 | O17: 86.623156 | P17: 94.913116 | Q17: 94.913116 | S17: 6.2243915 | T17: -3.0535242 | U17: -3.0535242
C19: Guztira | F19: 10429264 | G19: 10107529 | H19: 9607707.3 | J19: 9837276 | K19: 9809269.3 | L19: 9158421.1 | N19: 96.915079 | O19: 92.122583 | P19: 99.7153 | Q19: 93.099157 | S19: 6.017802 | T19: 3.0405928 | U19: 4.9057167
C21: Eragiketa arruntak | F21: 8611763.7 | G21: 8631288.3 | H21: 8367896 | J21: 8177406.9 | K21: 8172756.5 | L21: 7904315.5 | N21: 100.22672 | O21: 97.168202 | P21: 99.943131 | Q21: 96.660416 | S21: 5.3116698 | T21: 5.610491 | U21: 5.8649036
C22: Kapital eragiketak | F22: 379604.34 | G22: 300752.11 | H22: 73893.959 | J22: 398303.53 | K22: 397729.06 | L22: 58381.761 | N22: 79.227785 | O22: 19.466047 | P22: 99.855769 | Q22: 14.657606 | S22: -4.6947108 | T22: -24.382667 | U22: 26.570281
C23: Finantza eragiketak | F23: 1437895.8 | G23: 1175488.9 | H23: 1165917.3 | J23: 1261565.6 | K23: 1238783.7 | L23: 1195723.8 | N23: 81.75063 | O23: 81.084967 | P23: 98.194158 | Q23: 94.780943 | S23: 13.977088 | T23: -5.1094375 | U23: -2.4927575
C25: Guztira | F25: 10429264 | G25: 10107529 | H25: 9607707.3 | J25: 9837276 | K25: 9809269.3 | L25: 9158421.1 | N25: 96.915079 | O25: 92.122583 | P25: 99.7153 | Q25: 93.099157 | S25: 6.017802 | T25: 3.0405928 | U25: 4.9057167
C28: ◄ itzuli

Sheet Aurrekontuko muntak EJ
B1: Eusko Jaurlaritza | I1: =Aurkibidea!B8 -> 2014ko 4. hiruhilabetea
B2: Aurrekontuko muntak
G3: Mila euro
E4: 2014 | G4: 2013 | I4: 14/13 % Ald.
B6: 1.- Sarrera arruntak | E6: 8631288.3 | G6: 8172756.5 | I6: 5.610491
B7: 2.- Gastu arruntak | E7: 8555879.9 | G7: 8294113.6 | I7: 3.15605
C8: 2.1.- Langile-gastuak | E8: 1884605.2 | G8: 1867851.9 | I8: 0.89693018
C9: 2.2.- Funtzionamendu-gastuak | E9: 3285698 | G9: 3201299.3 | I9: 2.6363874
C10: 2.3.- Finantza-gastuak | E10: 251774.04 | G10: 221983.59 | I10: 13.420117
C11: 2.4.- Gastu arruntetarako transf. | E11: 3133802.8 | G11: 3002978.8 | I11: 4.3564722
B12: 3.- Aurrezte gordina (1-2) | E12: 75408.314 | G12: -121357.08 | I12: -
B13: 4.- Kapital-sarrerak | E13: 300752.11 | G13: 397729.06 | I13: -24.382667
B14: 5.- Kapital-gastuak | E14: 932832.87 | G14: 910335.36 | I14: 2.4713432
C15: 5.1.- Inbertsio errealak | E15: 332039.98 | G15: 452645.57 | I15: -26.644597
C16: 5.2.- Kapital eragiketetako transf. | E16: 600792.89 | G16: 457689.79 | I16: 31.266396
B17: 6.- Aurrekontu-Saldo Ez-Finantzarioa (3+4-5) | E17: -556672.45 | G17: -633963.38 | I17: -
B18: 7.- Finanza-aktiboen aldaketa garbia | E18: -48897.726 | G18: -111556.77 | I18: -
C19: 7.1.- Finanza-aktiboen aldaketa. Sarrerak | E19: 36122.35 | G19: 63530.592 | I19: -43.141802
C20: 7.2.- Finanza-aktiboen aldaketa. Gastuak | E20: 85020.076 | G20: 175087.36 | I20: -51.44134
B21: 8.- Finanza-pasiboen aldaketa garbia | E21: 659561.71 | G21: 975324.81 | I21: -32.375173
C22: 8.1.- Finanza-pasiboen aldaketa. Sarrerak | E22: 1139366.5 | G22: 1175253.1 | I22: -3.0535242
C23: 8.2.- Finanza-pasiboen aldaketa. Gastuak | E23: 479804.79 | G23: 199928.33 | I23: 139.98839
B24: 9.- Aurrekontu-Superabit / Defizita (6+7+8) | E24: 53991.531 | G24: 229804.65 | I24: -76.505467
C25: 9.1.- Ordaintzeko dauden obligazioak | E25: 586506.86 | G25: 705810.95 | I25: -16.903123
C26: 9.2.- Kobratzeko dauden eskubideak | E26: 499821.95 | G26: 650848.21 | I26: -23.204528
B27: 10.- Aurrekontu-Superabit / Defizita kutxako terminotan | E27: 140676.43 | G27: 284767.39 | I27: -50.59953
C29: ◄ itzuli

Sheet gastu-eboluzioa EJ 
B1: Eusko Jaurlaritza | N1: =Aurkibidea!B8 -> 2014ko 4. hiruhilabetea
B2: Gastu Aurrekontuaren gauzatzearen eboluzioa
B3: (Aitortutako Obligazioak)
N4: Mila euro
B5: Aldia | C5: Kap. 1 Langile- gastuak | D5: Kap.2 Funtzionam.-gastuak | E5: Kap. 3 Finantza-gastuak | F5: kap. 4 Gastu arrunterako transferentziak | G5: Operazio arruntak guztira | H5: Kap. 6 Inbertsio errealak | I5: Kap. 7 Kapital eragiketetarako transferentziak | J5: Kapital operazioak guztira | K5: Kap. 8 Finantza-aktiboen aldaketa | L5: Kap. 9 Finantza-pasiboen aldaketa | M5: Finantza-operazioak guztira | N5: Zenbatekoa Guztira
B7: 1995.12.31 | C7: 840192 | D7: 140625 | E7: 176867 | F7: 1984272 | G7: 3141956 | H7: 286425 | I7: 326963 | J7: 613388 | K7: 117658 | L7: 213456 | M7: 331113 | N7: 4086457
B8: 1996.12.31 | C8: 918256 | D8: 246469 | E8: 174174 | F8: 2036006 | G8: 3374906 | H8: 269861 | I8: 361766 | J8: 631627 | K8: 76154 | L8: 179648 | M8: 255802 | N8: 4262335
B9: 1997.12.31 | C9: 973395 | D9: 262597 | E9: 161370 | F9: 2056212 | G9: 3453574 | H9: 224496 | I9: 495571 | J9: 720067 | K9: 83511 | L9: 71671 | M9: 155182 | N9: 4328823
B10: 1998.12.31 | C10: 1033048 | D10: 1313780 | E10: 146018 | F10: 1134042 | G10: 3626887 | H10: 218996 | I10: 510711 | J10: 729707 | K10: 101206 | L10: 191122 | M10: 292328 | N10: 4648923
B11: 1999.12.31 | C11: 1167562 | D11: 1367809 | E11: 118840 | F11: 1188953 | G11: 3843164 | H11: 201027 | I11: 453269 | J11: 654296 | K11: 175958 | L11: 311024 | M11: 486982 | N11: 4984442
B12: 2000.12.31 | C12: 1155613 | D12: 1470537 | E12: 101461 | F12: 1304611 | G12: 4032222 | H12: 221118 | I12: 530010 | J12: 751128 | K12: 183573 | L12: 330557 | M12: 514130 | N12: 5297480
B13: 2001.12.31 | C13: 1237103 | D13: 1638897 | E13: 84969 | F13: 1392055 | G13: 4353025 | H13: 229305 | I13: 531503 | J13: 760809 | K13: 220006 | L13: 390658 | M13: 610664 | N13: 5724498
B14: 2002.12.31 | C14: 1288433 | D14: 1817468 | E14: 59498 | F14: 1591812 | G14: 4757212 | H14: 233963 | I14: 553511 | J14: 787474 | K14: 259160 | L14: 222461 | M14: 481620 | N14: 6026306
B15: 2003.03.31 | C15: 305977.73 | D15: 325892 | E15: 1.89304 | F15: 451240.28 | G15: 1083111.9 | H15: 3785.9697 | I15: 17828.472 | J15: 21614.442 | K15: 46570.109 | M15: 46570.109 | N15: 1151296.5
B16: 2003.06.30 | C16: 658834.77 | D16: 797137.7 | E16: 18075.426 | F16: 862489.21 | G16: 2336537.1 | H16: 43863.704 | I16: 110212.43 | J16: 154076.14 | K16: 86747.012 | M16: 86747.012 | N16: 2577360.3
B17: 2003.09.30 | C17: 950893.99 | D17: 1279638.2 | E17: 18155.69 | F17: 1162073.2 | G17: 3410761 | H17: 70568.316 | I17: 195022.54 | J17: 265590.86 | K17: 119074.35 | M17: 119074.35 | N17: 3795426.2
B18: 2003.12.31 | C18: 1348434.2 | D18: 1974442.8 | E18: 69564.436 | F18: 1861173.3 | G18: 5253614.7 | H18: 239035.03 | I18: 574822.56 | J18: 813857.58 | K18: 196111.84 | L18: 128922.33 | M18: 325034.17 | N18: 6392506.5
B19: 2004.03.31 | C19: 313632 | D19: 396465 | E19: 1599 | F19: 490744 | G19: 1202440 | H19: 7780 | I19: 13606 | J19: 21386 | K19: 30464 | M19: 30464 | N19: 1254290
B20: 2004.06.30 | C20: 687398.38 | D20: 863037.98 | E20: 25663.007 | F20: 967839.09 | G20: 2543938.5 | H20: 55576.052 | I20: 100231.86 | J20: 155807.91 | K20: 61693 | M20: 61693 | N20: 2761439.4
B21: 2004.09.30 | C21: 1013462 | D21: 1378306.4 | E21: 29550.498 | F21: 1312887.1 | G21: 3734206.1 | H21: 89309.515 | I21: 167164.45 | J21: 256473.97 | K21: 99252.297 | L21: 115935.23 | M21: 215187.53 | N21: 4205867.6
B22: 2004.12.31 | C22: 1392779 | D22: 2108648 | E22: 71715 | F22: 2078100 | G22: 5651242 | H22: 246983 | I22: 573826 | J22: 820809 | K22: 137321 | L22: 115935 | M22: 253256 | N22: 6725307
B23: 2005.03.31 | C23: 326079 | D23: 371748 | E23: 57 | F23: 519230 | G23: 1217114 | H23: 7519 | I23: 41919 | J23: 49438 | K23: 14891 | M23: 14891 | N23: 1281443
B24: 2005.06.30 | C24: 720308 | D24: 896692 | E24: 20854 | F24: 1033678 | G24: 2671532 | H24: 51841 | I24: 97905 | J24: 149746 | K24: 95374 | L24: 120202 | M24: 215576 | N24: 3036854
B25: 2005.09.30 | C25: 1068877.7 | D25: 1420506.2 | E25: 32783.493 | F25: 1432070.6 | G25: 3954238 | H25: 95203.761 | I25: 180263.96 | J25: 275467.72 | K25: 144896.16 | L25: 230718.63 | M25: 375614.79 | N25: 4605320.5
B26: 2005.12.31 | C26: 1468518 | D26: 2256781.3 | E26: 60129.425 | F26: 2290310.4 | G26: 6075739.1 | H26: 271504.89 | I26: 569532.11 | J26: 841037.01 | K26: 165416.29 | L26: 230718.63 | M26: 396134.92 | N26: 7312911
B27: 2006.03.31 | C27: 357626.75 | D27: 417361.22 | E27: 18.504 | F27: 616067.75 | G27: 1391074.2 | H27: 9319.009 | I27: 17123.739 | J27: 26442.748 | K27: 35293.616 | L27: 0 | M27: 35293.616 | N27: 1452810.6
B28: 2006.06.30 | C28: 772972.23 | D28: 1010291.2 | E28: 268.462 | F28: 1126212.1 | G28: 2909744.1 | H28: 47838.501 | I28: 163559.86 | J28: 211398.36 | K28: 80886.522 | L28: 0 | M28: 80886.522 | N28: 3202029
B29: 2006.09.30 | C29: 1134789.1 | D29: 1566722.6 | E29: 6332.66 | F29: 1576928.5 | G29: 4284772.9 | H29: 81900.966 | I29: 226047.64 | J29: 307948.61 | K29: 84951.863 | L29: 0 | M29: 84951.863 | N29: 4677673.3
B30: 2006.12.31 | C30: 1553899.4 | D30: 2461989.1 | E30: 42363.413 | F30: 2480229.5 | G30: 6538481.5 | H30: 280433.59 | I30: 634023.77 | J30: 914457.35 | K30: 134817.37 | L30: 183182.18 | M30: 317999.55 | N30: 7770938.4
B31: 2007.03.31 | C31: 371545.66 | D31: 498530.77 | E31: 0.319 | F31: 703264.4 | G31: 1573341.1 | H31: 9643.463 | I31: 61165.684 | J31: 70809.147 | K31: 13004.137 | L31: 80000 | M31: 93004.137 | N31: 1737154.4
B32: 2007.06.30 | C32: 828081.3 | D32: 1095047.8 | E32: 6685.661 | F32: 1258688.4 | G32: 3188503.1 | H32: 58791.03 | I32: 155952.96 | J32: 214743.99 | K32: 66386.326 | L32: 80000 | M32: 146386.33 | N32: 3549633.5
B33: 2007.09.30 | C33: 1219108.8 | D33: 1762515.8 | E33: 6711.481 | F33: 1748572.4 | G33: 4736908.5 | H33: 94857.377 | I33: 211368.95 | J33: 306226.32 | K33: 84702.087 | L33: 80000 | M33: 164702.09 | N33: 5207837
B34: 2007.12.31 | C34: 1688303.9 | D34: 2751917.9 | E34: 29128.455 | F34: 2718063.2 | G34: 7187413.5 | H34: 316100.44 | I34: 679754.81 | J34: 995855.25 | K34: 185101.84 | L34: 216515.51 | M34: 401617.35 | N34: 8584886.1
B35: 2008.03.31 | C35: 403933.38 | D35: 518821.97 | E35: 188.393 | F35: 726090.49 | G35: 1649034.2 | H35: 3897.123 | I35: 89607.106 | J35: 93504.229 | K35: 12598.135 | L35: 56666.667 | M35: 69264.802 | N35: 1811803.3
... B62: 2014.12.31 | C62: 1884605.2 | D62: 3285698 | E62: 251774.04 | F62: 3133802.8 | G62: 8555879.9 | H62: 332039.98 | I62: 600792.89 | J62: 932832.87 | K62: 85020.076 | L62: 479804.79 | M62: 564824.87 | N62: 10053538
B64: ◄ itzuli

Sheet sarrera-ebuluzioa EJ
B1: Eusko Jaurlaritza | O1: =Aurkibidea!B8 -> 2014ko 4. hiruhilabetea
B2: Sarrera Aurrekontuaren gauzatzearen eboluzioa
B3: (Aitortutako Eskubideak)
O4: mila euro
B5: Aldia | C5: Kap. 1 Zuzeneko zergak | D5: Cap.2 Zeharkako zergak | E5: Kap. 3 Tasak eta beste sarrera batzuk | F5: Kap. 4 Transfer. Arruntak | G5: Kap. 5 Ondare sarrerak | H5: Operazio arruntak guztira | I5: Kap. 6 Inbertsio errealen besterantzeak | J5: Kap. 7 Kapital transfer. | K5: Kapital operazioak guztira | L5: Kap. 8 Finantza-aktiboen aldaketa | M5: Kap. 9 Finantza-pasiboen aldaketa | N5: Finantza-operazioak guztira | O5: Zenbatekoa guztira
B7: 1995.12.31 | C7: . | D7: 7078 | E7: 59716 | F7: 3354243 | G7: 36714 | H7: 3457751 | I7: 4685 | J7: 114490 | K7: 119175 | L7: 60072 | M7: 471124 | N7: 531196 | O7: 4108122
B8: 1996.12.31 | C8: . | D8: 6454 | E8: 60211 | F8: 3851893 | G8: 28990 | H8: 3947548 | I8: 11606 | J8: 44175 | K8: 55781 | L8: 30002 | M8: 378638 | N8: 408640 | O8: 4411968
B9: 1997.12.31 | C9: . | D9: 6625 | E9: 55987 | F9: 3895955 | G9: 27420 | H9: 3985987 | I9: 14348 | J9: 131170 | K9: 145518 | L9: 25645 | M9: 228385 | N9: 254030 | O9: 4385535
B10: 1998.12.31 | C10: . | D10: 6735 | E10: 54729 | F10: 4395977 | G10: 26461 | H10: 4483901 | I10: 15426 | J10: 129726 | K10: 145152 | L10: 11053 | M10: 120202 | N10: 131255 | O10: 4760309
B11: 1999.12.31 | C11: . | D11: 7011 | E11: 67229 | F11: 4803534 | G11: 25763 | H11: 4903538 | I11: 1176 | J11: 57345 | K11: 58522 | L11: 6462 | M11: 125000 | N11: 131462 | O11: 5093521
B12: 2000.12.31 | C12: . | D12: 7060 | E12: 79245 | F12: 5093669 | G12: 50807 | H12: 5230782 | I12: 2855 | J12: 39099 | K12: 41954 | L12: 13528 | M12: . | N12: 13528 | O12: 5286263
B13: 2001.12.31 | C13: . | D13: 6890 | E13: 89323 | F13: 5185458 | G13: 54641 | H13: 5336312 | I13: 1028 | J13: 66553 | K13: 67581 | L13: 14883 | M13: 240000 | N13: 254883 | O13: 5658776
B14: 2002.12.31 | C14: . | D14: 7076 | E14: 94053 | F14: 5593039 | G14: 36030 | H14: 5730198 | I14: 504 | J14: 139698 | K14: 140201 | L14: 20712 | M14: 366900 | N14: 387612 | O14: 6258012
B15: 2003.03.31 | D15: 0 | E15: 2769.3117 | F15: 930688.09 | G15: 885.79301 | H15: 934343.2 | I15: 0 | J15: 1001.7883 | K15: 1001.7883 | L15: 1507.326 | M15: 0 | N15: 1507.326 | O15: 936852.31
B16: 2003.06.30 | D16: 0 | E16: 13931.635 | F16: 2815318.1 | G16: 2320.2552 | H16: 2831570 | I16: 192.86517 | J16: 43407.41 | K16: 43600.275 | L16: 3422.1921 | M16: 0 | N16: 3422.1921 | O16: 2878592.4
B17: 2003.09.30 | D17: 2426.3535 | E17: 30238.162 | F17: 3778000.7 | G17: 12817.353 | H17: 3823482.5 | I17: 192.86517 | J17: 75951.981 | K17: 76144.846 | L17: 6581.4112 | M17: 0 | N17: 6581.4112 | O17: 3906208.8
B18: 2003.12.31 | D18: 6892.965 | E18: 102801.52 | F18: 5858089.4 | G18: 43090.973 | H18: 6010874.9 | I18: 353.03568 | J18: 110093.58 | K18: 110446.61 | L18: 12346.26 | M18: 390000 | N18: 402346.26 | O18: 6523667.7
B19: 2004.03.31 | D19: 0 | E19: 2723 | F19: 998490 | G19: 1428 | H19: 1002641 | I19: 0 | J19: 1001.7883 | K19: 1001.7883 | L19: 1444 | M19: 0 | N19: 1444 | O19: 1005086.8
B20: 2004.06.30 | D20: 2107.2182 | E20: 19421.086 | F20: 3017513.9 | G20: 129195.73 | H20: 3168238 | I20: 1542.7202 | J20: 9599.1056 | K20: 11141.826 | L20: 4351 | N20: 4351 | O20: 3183730.8
B21: 2004.09.30 | D21: 3236.76 | E21: 33842.671 | F21: 4046506.3 | G21: 137697.04 | H21: 4221282.8 | I21: 1542.7202 | J21: 17475.077 | K21: 19017.797 | L21: 6568.8484 | N21: 6568.8484 | O21: 4246869.4
B22: 2004.12.31 | D22: 6838 | E22: 122082 | F22: 6277118 | G22: 230050 | H22: 6636088 | I22: 2184 | J22: 44670 | K22: 46854 | L22: 74379 | M22: 275000 | N22: 349379 | O22: 7032321
B23: 2005.03.31 | D23: 0 | E23: 3220 | F23: 1070980 | G23: 196 | H23: 1074396 | J23: 13983 | K23: 13983 | L23: 1599 | N23: 1599 | O23: 1089978
B24: 2005.06.30 | D24: 1696 | E24: 19149 | F24: 3238358 | G24: 6712 | H24: 3265915 | J24: 25204 | K24: 25204 | L24: 4145 | N24: 4145 | O24: 3295264
B25: 2005.09.30 | D25: 1696.41 | E25: 30834.55 | F25: 4338367.8 | G25: 17042.51 | H25: 4387941.3 | I25: 210 | J25: 34948.02 | K25: 35158.02 | L25: 6335 | M25: 0 | N25: 6335 | O25: 4429434.3
B26: 2005.12.31 | C26: 0 | D26: 6986.2731 | E26: 116756.17 | F26: 7224206.1 | G26: 36569.318 | H26: 7384517.8 | I26: 1897.2118 | J26: 69891.522 | K26: 71788.734 | L26: 9371.1253 | M26: 300000 | N26: 309371.13 | O26: 7765677.7
B27: 2006.03.31 | C27: 0 | D27: 0 | E27: 1639.473 | F27: 1185259.5 | G27: 39.109 | H27: 1186938.1 | I27: 0 | J27: 1001.687 | K27: 1001.687 | L27: 1084.138 | M27: 0 | N27: 1084.138 | O27: 1189023.9
B28: 2006.06.30 | C28: 0 | D28: 0 | E28: 21477.499 | F28: 3569583.2 | G28: 210.332 | H28: 3591271.1 | I28: 0 | J28: 24271.842 | K28: 24271.842 | L28: 3896.58 | M28: 0 | N28: 3896.58 | O28: 3619439.5
B29: 2006.09.30 | C29: 0 | D29: 0 | E29: 46867.721 | F29: 4760262.2 | G29: 22577.904 | H29: 4829707.9 | I29: 0 | J29: 31123.316 | K29: 31123.316 | L29: 6010.864 | M29: 0 | N29: 6010.864 | O29: 4866842
B30: 2006.12.31 | D30: 6421.887 | E30: 135369.97 | F30: 7984064.6 | G30: 57341.627 | H30: 8183198.1 | I30: 1116.173 | J30: 48855.552 | K30: 49971.725 | L30: 14478.564 | N30: 14478.564 | O30: 8247648.4
B31: 2007.03.31 | C31: 0 | D31: 0 | E31: 4669.021 | F31: 1332668.4 | G31: 128.667 | H31: 1337466.1 | I31: 0 | J31: 1000 | K31: 1000 | L31: 2342.941 | M31: 0 | N31: 2342.941 | O31: 1340809.1
B32: 2007.06.30 | C32: 0 | D32: 0 | E32: 23712.534 | F32: 4013265.8 | G32: 883.349 | H32: 4037861.7 | I32: 0 | J32: 10978.122 | K32: 10978.122 | L32: 5284.578 | M32: 0 | N32: 5284.578 | O32: 4054124.4
B33: 2007.09.30 | C33: 0 | D33: 1594.236 | E33: 44772.536 | F33: 5396286.1 | G33: 32293.206 | H33: 5474946 | I33: 0 | J33: 16580.985 | K33: 16580.985 | L33: 6957.657 | M33: 0 | N33: 6957.657 | O33: 5498484.7
B34: 2007.12.31 | C34: 0 | D34: 6263.473 | E34: 151561.19 | F34: 8699954.4 | G34: 87011.582 | H34: 8944790.7 | I34: 528.331 | J34: 42720.467 | K34: 43248.798 | L34: 10529.858 | M34: 0 | N34: 10529.858 | O34: 8998569.3
B35: 2008.03.31 | C35: 0 | D35: 0 | E35: 9373.411 | F35: 1496358.1 | G35: 79.562 | H35: 1505811.1 | I35: 0 | J35: 1000 | K35: 1000 | L35: 1764.705 | M35: 0 | N35: 1764.705 | O35: 1508575.8
B36: 2008.06.30 | C36: 0 | D36: 1200.459 | E36: 42701.508 | F36: 4518472.4 | G36: 56692.483 | H36: 4619066.8 | I36: 0 | J36: 23249.389 | K36: 23249.389 | L36: 24977.043 | M36: 0 | N36: 24977.043 | O36: 4667293.3
B37: 2008.09.30 | C37: 0 | D37: 1487.393 | E37: 66746.807 | F37: 6017757.3 | G37: 108557.33 | H37: 6194548.8 | I37: 0 | J37: 33299.383 | K37: 33299.383 | L37: 28328.257 | M37: 0 | N37: 28328.257 | O37: 6256176.5
B38: 2008.12.31 | D38: 5555.33 | E38: 154951.13 | F38: 8006720.9 | G38: 180035.9 | H38: 8347263.2 | I38: 8803.178 | J38: 75880.255 | K38: 84683.433 | L38: 48039.755 | M38: 200000 | N38: 248039.76 | O38: 8679986.4
B39: 2009.03.31 | C39: 0 | D39: 0 | E39: 16610.06 | F39: 1474770 | G39: 127.56 | H39: 1491507.6 | I39: 0 | J39: 3702.48 | K39: 3702.48 | L39: 1401.128 | M39: 0 | N39: 1401.128 | O39: 1496611.2
B40: 2009.06.30 | C40: 0 | D40: 1445.869 | E40: 54839.265 | F40: 4441481.7 | G40: 18378.87 | H40: 4516145.7 | I40: 13.115 | J40: 12763.422 | K40: 12776.537 | L40: 6759.487 | M40: 50000 | N40: 56759.487 | O40: 4585681.8
B41: 2009.09.30 | C41: 0 | D41: 2077.066 | E41: 73038.071 | F41: 6054653 | G41: 25909.457 | H41: 6155677.6 | I41: 13.115 | J41: 15992.767 | K41: 16005.882 | L41: 9343.628 | M41: 50000 | N41: 59343.628 | O41: 6231027.1
...

Sheet gastuak FFAA
B1: Foru Aldundietako bateratua | U1: =Aurkibidea!B8 -> 2014ko 4. hiruhilabetea
B2: Kapituluen araberako gastu aurrekontuaren gauzatzearen egoera
U4: Mila euro
B5: Gastu Kapituluak | F5: 2014 | J5: 2013 | N5: Gauzatze ehunekoa | S5: 14/13 Aldaketa tasa
F6: Aurrekontu eguneratuak | G6: Aitortutako obligazioak | H6: Ordainketak | J6: Aurrekontu eguneratuak | K6: Aitortutako obligazioak | L6: Ordainketak | N6: 2014 | P6: 2013
F7: A | G7: B | H7: C | J7: D | K7: E | L7: F | N7: B/A | O7: C/A | P7: E/D | Q7: F/D | S7: A/D | T7: B/E | U7: C/F
B9: 1 | C9: Langile-gastuak | F9: 358648.93 | G9: 349360.46 | H9: 346405.7 | J9: 351634.17 | K9: 336582.65 | L9: 333699.83 | N9: 97.410151 | O9: 96.586292 | P9: 95.719551 | Q9: 94.899718 | S9: 1.994902 | T9: 3.7963373 | U9: 3.8075727
B10: 2 | C10: Funtzionamendu-gastuak | F10: 532049.5 | G10: 513900.95 | H10: 431357.15 | J10: 512666.91 | K10: 499103.35 | L10: 434299.29 | N10: 96.588935 | O10: 81.074627 | P10: 97.354313 | Q10: 84.713735 | S10: 3.780738 | T10: 2.9648364 | U10: -0.67744497
B11: 3 | C11: Finantza-gastuak | F11: 99860.476 | G11: 74323.169 | H11: 72593.852 | J11: 98561.241 | K11: 72357.207 | L11: 70394.558 | N11: 74.427012 | O11: 72.695279 | P11: 73.413449 | Q11: 71.422151 | S11: 1.3182009 | T11: 2.717023 | U11: 3.1242377
B12: 4 | C12: Gastu arruntetarako transf. | F12: 11501774 | G12: 11482750 | H12: 11184034 | J12: 10979080 | K12: 10952675 | L12: 10642378 | N12: 99.834601 | O12: 97.237468 | P12: 99.7595 | Q12: 96.933244 | S12: 4.7608219 | T12: 4.8396877 | U12: 5.0896122
B13: 6 | C13: Inbertsio errealak | F13: 213256.53 | G13: 188543.19 | H13: 135212.52 | J13: 257311.44 | K13: 230696.09 | L13: 170085.61 | N13: 88.411448 | O13: 63.403692 | P13: 89.656368 | Q13: 66.101069 | S13: -17.121238 | T13: -18.272047 | U13: -20.50326
B14: 7 | C14: Kapital eragiketetako transf. | F14: 236122.51 | G14: 203037.69 | H14: 140807.49 | J14: 237993.07 | K14: 206313.87 | L14: 143339.62 | N14: 85.988282 | O14: 59.633235 | P14: 86.689025 | Q14: 60.228485 | S14: -0.78596969 | T14: -1.5879568 | U14: -1.7665212
B15: 8 | C15: Finanza-aktiboen aldaketa | F15: 143825.23 | G15: 136392.8 | H15: 129634.62 | J15: 102683.22 | K15: 98148.085 | L15: 94558.477 | N15: 94.832318 | O15: 90.133434 | P15: 95.583377 | Q15: 92.087568 | S15: 40.066933 | T15: 38.966339 | U15: 37.094658
B16: 9 | C16: Finanza-pasiboen aldaketa | F16: 259298.75 | G16: 259298.74 | H16: 259298.74 | J16: 244056.87 | K16: 244056.87 | L16: 239056.87 | N16: 100 | O16: 100 | P16: 99.999999 | Q16: 97.951296 | S16: 6.2452153 | T16: 6.2452162 | U16: 8.4673908
C18: Guztira | F18: 13344836 | G18: 13207607 | H18: 12699344 | J18: 12783987 | K18: 12639933 | L18: 12127813 | N18: 98.971672 | O18: 95.162982 | P18: 98.873173 | Q18: 94.867218 | S18: 4.3871248 | T18: 4.4911168 | U18: 4.7125696
C20: Eragiketa arruntak | F20: 12492333 | G20: 12420335 | H20: 12034391 | J20: 11941942 | K20: 11860718 | L20: 11480772 | N20: 99.423661 | O20: 96.334212 | P20: 99.319845 | Q20: 96.138231 | S20: 4.6088903 | T20: 4.7182357 | U20: 4.8221392
C21: Kapital eragiketak | F21: 449379.05 | G21: 391580.88 | H21: 276020.01 | J21: 495304.5 | K21: 437009.96 | L21: 313425.23 | N21: 87.138216 | O21: 61.422536 | P21: 88.230564 | Q21: 63.279301 | S21: -9.272166 | T21: -10.395432 | U21: -11.934336
C22: Finantza eragiketak | F22: 403123.98 | G22: 395691.55 | H22: 388933.37 | J22: 346740.09 | K22: 342204.95 | L22: 333615.34 | N22: 98.156291 | O22: 96.479839 | P22: 98.692065 | Q22: 96.214818 | S22: 16.261141 | T22: 15.629989 | U22: 16.581379
C24: Guztira | F24: 13344836 | G24: 13207607 | H24: 12699344 | J24: 12783987 | K24: 12639933 | L24: 12127813 | N24: 98.971672 | O24: 95.162982 | P24: 98.873173 | Q24: 94.867218 | S24: 4.3871248 | T24: 4.4911168 | U24: 4.7125696
C26: ◄ itzuli

Sheet sarrerak FFAA
B1: Foru Aldundietako bateratua | U1: =Aurkibidea!B8 -> 2014ko 4. hiruhilabetea
B2: Kapituluen araberako sarrera aurrekontuaren gauzatzearen egoera
U4: Mila euro
B5: Sarrera kapituluak | F5: 2014 | J5: 2013 | N5: Gauzatze ehunekoa | S5: 14/13 Aldaketa tasa
F6: Aurrekontu eguneratuak | G6: Aitortutako eskubideak | H6: Sartutako eskubideak | J6: Aurrekontu eguneratuak | K6: Aitortutako eskubideak | L6: Sartutako eskubideak | N6: 2014 | P6: 2013
F7: A | G7: B | H7: C | J7: D | K7: E | L7: F | N7: B/A | O7: C/A | P7: E/D | Q7: F/D | S7: A/D | T7: B/E | U7: C/F
B9: 1 | C9: Zuzeneko zergak | F9: 5920367.4 | G9: 5905830.1 | H9: 5754862 | J9: 5769665.8 | K9: 5907446.8 | L9: 5696346.6 | N9: 99.754453 | O9: 97.204475 | P9: 102.38803 | Q9: 98.72923 | S9: 2.6119651 | T9: -0.027367117 | U9: 1.0272456
C10: 1.1 - P.F.E.Z. | F10: 4460888.1 | G10: 4395722.5 | H10: 4301045.3 | J10: 4458895.8 | K10: 4331187.3 | L10: 4201229.7 | N10: 98.539178 | O10: 96.416794 | P10: 97.135872 | Q10: 94.221303 | S10: 0.044682386 | T10: 1.4900117 | U10: 2.3758671
C11: 1.2 - Sozietateak | F11: 1101028.7 | G11: 1188946.9 | H11: 1137443 | J11: 1070600 | K11: 1143935.1 | L11: 1067177.9 | N11: 107.98509 | O11: 103.30729 | P11: 106.84991 | Q11: 99.680353 | S11: 2.8422145 | T11: 3.9348158 | U11: 6.584202
C12: 1.3 - Zuzeneko beste zerga batzuk | F12: 358450.57 | G12: 321160.77 | H12: 316373.73 | J12: 240170 | K12: 432324.4 | L12: 427939.04 | N12: 89.596948 | O12: 88.261467 | P12: 180.00766 | Q12: 178.18172 | S12: 49.248684 | T12: -25.713014 | U12: -26.070375
B13: 2 | C13: Zeharkako zergak | F13: 6408863.8 | G13: 6505459.3 | H13: 6057136.6 | J13: 6022672.4 | K13: 5948101.5 | L13: 5602300.6 | N13: 101.50722 | O13: 94.511864 | P13: 98.76183 | Q13: 93.020179 | S13: 6.4122932 | T13: 9.3703491 | U13: 8.1187369
C14: 2.1 - I. Ondare eskualdaketak etaEJDak. | F14: 115176.03 | G14: 131301.14 | H14: 125264.38 | J14: 125850 | K14: 112945.54 | L14: 109714.67 | N14: 114.00041 | O14: 108.75908 | P14: 89.746157 | Q14: 87.178923 | S14: -8.481505 | T14: 16.251732 | U14: 14.172863
C15: 2.2 - B.E.Z.a | F15: 4771633.2 | G15: 4943387 | H15: 4506353.6 | J15: 4430672.2 | K15: 4379308.4 | L15: 4041528.7 | N15: 103.59948 | O15: 94.440486 | P15: 98.840722 | Q15: 91.217055 | S15: 7.6954691 | T15: 12.880539 | U15: 11.501214
C16: 2.3 - Zerga bereziak | F16: 1457501 | G16: 1360935.2 | H16: 1356517.1 | J16: 1395147.3 | K16: 1386932.4 | L16: 1382354.2 | N16: 93.374566 | O16: 93.071438 | P16: 99.411182 | Q16: 99.083026 | S16: 4.4693242 | T16: -1.8744414 | U16: -1.8690619
C17: 2.4 - Gainerako zeharkako zergak | F17: 64553.579 | G17: 69836.036 | H17: 69001.552 | J17: 71002.86 | K17: 68915.083 | L17: 68703.038 | N17: 108.18306 | O17: 106.89036 | P17: 97.059587 | Q17: 96.760944 | S17: -9.0831285 | T17: 1.3363599 | U17: 0.4344991
B18: 3 | C18: Tasak eta beste sarrera batzuk | F18: 219576.97 | G18: 298131.6 | H18: 185692.09 | J18: 216483.7 | K18: 334988.46 | L18: 197679.16 | N18: 135.77544 | O18: 84.568107 | P18: 154.74073 | Q18: 91.313645 | S18: 1.4288679 | T18: -11.002427 | U18: -6.0639035
B19: 4 | C19: Transferentzia arruntak | F19: 306807.97 | G19: 402571.66 | H19: 284245.74 | J19: 295075.17 | K19: 391198.14 | L19: 261253.52 | N19: 131.21291 | O19: 92.64614 | P19: 132.57576 | Q19: 88.537953 | S19: 3.9762072 | T19: 2.9073548 | U19: 8.8007332
B20: 5 | C20: Ondare-sarrerak | F20: 9265.5252 | G20: 10104.009 | H20: 9293.1177 | J20: 11322.981 | K20: 9565.1587 | L20: 8765.2631 | N20: 109.04951 | O20: 100.2978 | P20: 84.475622 | Q20: 77.411267 | S20: -18.17062 | T20: 5.6334742 | U20: 6.0221193
B21: 6 | C21: Inbertsio errealen besterentzeak | F21: 9386.6481 | G21: 1390.9492 | H21: 1390.9492 | J21: 3202.7699 | K21: 2028.9557 | L21: 2028.9557 | N21: 14.81838 | O21: 14.81838 | P21: 63.350031 | Q21: 63.350031 | S21: 193.07906 | T21: -31.445068 | U21: -31.445068
B22: 7 | C22: Kapital eragiketetarako transf. | F22: 31181.14 | G22: 46717.245 | H22: 44304.946 | J22: 25038.794 | K22: 37446.527 | L22: 34980.599 | N22: 149.82533 | O22: 142.08892 | P22: 149.55404 | Q22: 139.70561 | S22: 24.531316 | T22: 24.757216 | U22: 26.655767
B23: 8 | C23: Finantza-aktiboen aldaketa | F23: 77018.708 | G23: 1913.3462 | H23: 1668.5942 | J23: 30161.162 | K23: 2116.3309 | L23: 1783.0239 | N23: 2.4842616 | O23: 2.1664791 | P23: 7.0167419 | Q23: 5.9116552 | S23: 155.35723 | T23: -9.5913511 | U23: -6.4177338
B24: 9 | C24: Finantza-pasiboen aldaketa | F24: 281570.06 | G24: 263500 | H24: 263500 | J24: 290126.15 | K24: 336340 | L24: 336340 | N24: 93.582392 | O24: 93.582392 | P24: 115.92888 | Q24: 115.92888 | S24: -2.9490922 | T24: -21.656657 | U24: -21.656657
C25: Aurrekontu doikuntza (*) | F25: 0 | J25: 0 | K25: 0 | L25: 0
C27: Guztira | F27: 13264038 | G27: 13435618 | H27: 12602094 | J27: 12663749 | K27: 12969232 | L27: 12141478 | N27: 101.29357 | O27: 95.009483 | P27: 102.41226 | Q27: 95.875856 | S27: 4.7402184 | T27: 3.5960989 | U27: 3.7937427
C29: Eragiketa arruntak | F29: 12864882 | G29: 13122097 | H29: 12291230 | J29: 12315220 | K29: 12591300 | L29: 11766345 | N29: 101.99936 | O29: 95.540946 | P29: 102.24178 | Q29: 95.543118 | S29: 4.4632713 | T29: 4.2155828 | U29: 4.4608969
C30: Kapital eragiketak | F30: 40567.788 | G30: 48108.194 | H30: 45695.895 | J30: 28241.564 | K30: 39475.483 | L30: 37009.555 | N30: 118.58718 | O30: 112.64084 | P30: 139.77796 | Q30: 131.04641 | S30: 43.645685 | T30: 21.868539 | U30: 23.470535
C31: Finantza eragiketak | F31: 358588.77 | G31: 265413.35 | H31: 265168.59 | J31: 320287.31 | K31: 338456.33 | L31: 338123.02 | N31: 74.016079 | O31: 73.947824 | P31: 105.67272 | Q31: 105.56866 | S31: 11.958469 | T31: -21.581214 | U31: -21.576298
C32: Aurrekontu doikuntza (*) | F32: 0 | G32: 0 | H32: 0 | J32: 0 | K32: 0 | L32: 0
C34: Guztira | F34: 13264038 | G34: 13435618 | H34: 12602094 | J34: 12663749 | K34: 12969232 | L34: 12141478 | N34: 101.29357 | O34: 95.009483 | P34: 102.41226 | Q34: 95.875856 | S34: 4.7402184 | T34: 3.5960989 | U34: 3.7937427
B35: (*) Refleja el exceso del presupuesto actualizado de gastos sobre el inicial de ingresos como consecuencia de las modificaciones de créditos del presupuesto de gastos de la D. F. de Bizkaia.
C37: ◄ itzuli | I37: =SUM(I10:I12) -> 0
F44: =+'gastuak FFAA'!F36 -> 0 | G44: 0 | H44: 0 | K44: 0 | L44: 0 | N44: =IF(+$F44=0," ",+G44/$F44*100) | O44: =IF(+$F44=0," ",+H44/$F44*100) | P44: =IF(+$J44=0," ",+K44/$J44*100) | Q44: =IF(+$J44=0," ",+L44/$J44*100) | S44: =IF(+J44=0," ",(+F44/J44-1)*100) | T44: =IF(+K44=0," ",(+G44/K44-1)*100) | U44: =IF(+L44=0," ",(+H44/L44-1)*100)
F45: 0 | G45: 0 | H45: 0 | N45: =IF(+$F45=0," ",+G45/$F45*100) | O45: =IF(+$F45=0," ",+H45/$F45*100) | P45: =IF(+$J45=0," ",+K45/$J45*100) | Q45: =IF(+$J45=0," ",+L45/$J45*100) | S45: =IF(+J45=0," ",(+F45/J45-1)*100) | T45: =IF(+K45=0," ",(+G45/K45-1)*100) | U45: =IF(+L45=0," ",(+H45/L45-1)*100)

Sheet Aurrekontuko muntak FFAA
B1: Foru Aldundietako bateratua | I1: =Aurkibidea!B8 -> 2014ko 4. hiruhilabetea
B2: Aurrekontuko muntak
G3: Mila euro
E4: 2014 | G4: 2013 | I4: 14/13 % Ald.
B6: 1.- Sarrera arruntak | E6: 13122097 | G6: 12591300 | I6: 4.2155828
B7: 2.- Gastu arruntak | E7: 12420335 | G7: 11860718 | I7: 4.7182357
C8: 2.1.- Langile-gastuak | E8: 349360.46 | G8: 336582.65 | I8: 3.7963373
C9: 2.2.- Funtzionamendu-gastuak | E9: 513900.95 | G9: 499103.35 | I9: 2.9648364
C10: 2.3.- Finantza-gastuak | E10: 74323.169 | G10: 72357.207 | I10: 2.717023
C11: 2.4.- Gastu arruntetarako transf. | E11: 11482750 | G11: 10952675 | I11: 4.8396877
B12: 3.- Aurrezte gordina (1-2) | E12: 701761.67 | G12: 730581.64 | I12: -3.9447979
B13: 4.- Kapital-sarrerak | E13: 48108.194 | G13: 39475.483 | I13: 21.868539
B14: 5.- Kapital-gastuak | E14: 391580.88 | G14: 437009.96 | I14: -10.395432
C15: 5.1.- Inbertsio errealak | E15: 188543.19 | G15: 230696.09 | I15: -18.272047
C16: 5.2.- Kapital eragiketetako transf. | E16: 203037.69 | G16: 206313.87 | I16: -1.5879568
B17: 6.- Aurrekontu-Saldo Ez-Finantzarioa (3+4-5) | E17: 358288.98 | G17: 333047.16 | I17: 7.5790512
B18: 7.- Finanza-aktiboen aldaketa garbia | E18: -134479.46 | G18: -96031.754 | I18: -
C19: 7.1.- Finanza-aktiboen aldaketa. Sarrerak | E19: 1913.3462 | G19: 2116.3309 | I19: -9.5913511
C20: 7.2.- Finanza-aktiboen aldaketa. Gastuak | E20: 136392.8 | G20: 98148.085 | I20: 38.966339
B21: 8.- Finanza-pasiboen aldaketa garbia | E21: 4201.2551 | G21: 92283.134 | I21: -95.447429
C22: 8.1.- Finanza-pasiboen aldaketa. Sarrerak | E22: 263500 | G22: 336340 | I22: -21.656657
C23: 8.2.- Finanza-pasiboen aldaketa. Gastuak | E23: 259298.74 | G23: 244056.87 | I23: 6.2452162
B24: 9.- Aurrekontu-Superabit / Defizita (6+7+8) | E24: 228010.78 | G24: 329298.54 | I24: -30.758643
C25: 9.1.- Ordaintzeko dauden obligazioak | E25: 508263.34 | G25: 512120.77 | I25: -0.75322792
C26: 9.2.- Kobratzeko dauden eskubideak | E26: 833524.18 | G26: 827754.2 | I26: 0.69706416
B27: 10.- Aurrekontu-Superabit / Defizita kutxako terminotan | E27: -97250.06 | G27: 13665.119 | I27: -
C29: ◄ itzuli

Sheet gastu-eboluzioa FFAA
B1: Foru Aldundietako bateratua | N1: =Aurkibidea!B8 -> 2014ko 4. hiruhilabetea
B2: Gastu Aurrekontuaren gauzatzearen eboluzioa
B3: (Aitortutako Obligazioak)
N4: Mila euro
B5: Aldia | C5: Kap. 1 Langile- gastuak | D5: Kap.2 Funtzionam.-gastuak | E5: Kap. 3 Finantza-gastuak | F5: kap. 4 Gastu arrunterako transferentziak | G5: Operazio arruntak guztira | H5: Kap. 6 Inbertsio errealak | I5: Kap. 7 Kapital eragiketetarako transferentziak | J5: Kapital operazioak guztira | K5: Kap. 8 Finantza-aktiboen aldaketa | L5: Kap. 9 Finantza-pasiboen aldaketa | M5: Finantza-operazioak guztira | N5: Zenbatekoa Guztira
B7: 1995.12.31 | C7: 174596 | D7: 95788 | E7: 101020 | F7: 4022936 | G7: 4394341 | H7: 271848 | I7: 121467 | J7: 393315 | K7: 47066 | L7: 43365 | M7: 90431 | N7: 4878087
B8: 1996.12.31 | C8: 182593 | D8: 99336 | E8: 104278 | F8: 4383393 | G8: 4769600 | H8: 238104 | I8: 161432 | J8: 399537 | K8: 47686 | L8: 39386 | M8: 87072 | N8: 5256209
B9: 1997.12.31 | C9: 184452 | D9: 115290 | E9: 123012 | F9: 5380367 | G9: 5803121 | H9: 243833 | I9: 167656 | J9: 411489 | K9: 39818 | L9: 49258 | M9: 89076 | N9: 6303686
B10: 1998.12.31 | C10: 192139 | D10: 133930 | E10: 87757 | F10: 6007178 | G10: 6421004 | H10: 239254 | I10: 182825 | J10: 422078 | K10: 44618 | L10: 210973 | M10: 255591 | N10: 7098673
B11: 1999.12.31 | C11: 200122 | D11: 155944 | E11: 70127 | F11: 6629114 | G11: 7055307 | H11: 272666 | I11: 186479 | J11: 459145 | K11: 52602 | L11: 86659 | M11: 139261 | N11: 7653713
B12: 2000.12.31 | C12: 208529 | D12: 145179 | E12: 61272 | F12: 7186588 | G12: 7601567 | H12: 284911 | I12: 184097 | J12: 469008 | K12: 49587 | L12: 54217 | M12: 103804 | N12: 8174378
B13: 2001.12.31 | C13: 222754 | D13: 162341 | E13: 64137 | F13: 7587104 | G13: 8036336 | H13: 379847 | I13: 185835 | J13: 565682 | K13: 35242 | L13: 74739 | M13: 109981 | N13: 8711999
B14: 2002.12.31 | C14: 236222 | D14: 190366 | E14: 58620 | F14: 7937245 | G14: 8422454 | H14: 535765 | I14: 199285 | J14: 735049 | K14: 58708 | L14: 54114 | M14: 112822 | N14: 9270324
B15: 2003.03.31 | C15: 56309.63 | D15: 31856.585 | E15: 11862.695 | F15: 1277841.8 | G15: 1377870.7 | H15: 42793.254 | I15: 16064.56 | J15: 58857.815 | K15: 614.42851 | L15: 43699.62 | M15: 44314.048 | N15: 1481042.6
B16: 2003.06.30 | C16: 124217.45 | D16: 91470.025 | E16: 28937.848 | F16: 3866236.2 | G16: 4110861.5 | H16: 166865.61 | I16: 69892.27 | J16: 236757.88 | K16: 46606.001 | L16: 47976.028 | M16: 94582.029 | N16: 4442201.4
B17: 2003.09.30 | C17: 182907.63 | D17: 144677.41 | E17: 37748.091 | F17: 5536426.2 | G17: 5901759.3 | H17: 276566.69 | I17: 98650.833 | J17: 375217.52 | K17: 51440.927 | L17: 59922.652 | M17: 111363.58 | N17: 6388340.4
B18: 2003.12.31 | C18: 252317.26 | D18: 222599.04 | E18: 57122.824 | F18: 8408378.5 | G18: 8940417.6 | H18: 505626.55 | I18: 204583 | J18: 710209.55 | K18: 81148 | L18: 61195 | M18: 142343 | N18: 9792970.2
... B46: 2010.12.31 | C46: 353864.22 | D46: 460559.82 | E46: 47326.643 | F46: 11487714 | G46: 12349465 | H46: 556584.39 | I46: 306126.4 | J46: 862710.79 | K46: 115404.84 | L46: 109550.79 | M46: 224955.64 | N46: 13437131
B47: 2011.03.31 | C47: 78463.102 | D47: 79075.042 | E47: 8259.8949 | F47: 2066272.1 | G47: =SUM(C47:F47) -> 2232070.1 | H47: 53914.844 | I47: 39680.682 | J47: =SUM(H47:I47) -> 93595.526 | K47: 10689.124 | L47: 8901.2566 | M47: =SUM(K47:L47) -> 19590.381 | N47: =SUM(G47,J47,M47) -> 2345256
B48: 2011.06.30 | C48: 175193.59 | D48: 202249.37 | E48: 25233.266 | F48: 5819076.2 | G48: 6221752.4 | H48: 138645.16 | I48: 95997.308 | J48: 234642.47 | K48: 34933.402 | L48: 92007.727 | M48: 126941.13 | N48: 6583336
B49: 2011.09.30 | C49: 253490.54 | D49: 322549.43 | E49: 41891.989 | F49: 8066650.1 | G49: 8684582.1 | H49: 231578.74 | I49: 142913.06 | J49: 374491.8 | K49: 52981.599 | L49: 113094.45 | M49: 166076.05 | N49: 9225149.9
B50: 2011.12.31 | C50: 351604.44 | D50: 495652.46 | E50: 68331.934 | F50: 11055116 | G50: 11970705 | H50: 414452.85 | I50: 278917.83 | J50: 693370.67 | K50: 82520.159 | L50: 233799.69 | M50: 316319.85 | N50: 12980396
B51: 2012.03.31 | C51: 76227.096 | D51: 74130.299 | E51: 12479.442 | F51: 1927310.7 | G51: 2090147.6 | H51: 22990.889 | I51: 32364.029 | J51: 55354.918 | K51: 705.275 | L51: 75134.164 | M51: 75839.439 | N51: 2221341.9
B52: 2012.06.30 | C52: 170803.29 | D52: 198814.77 | E52: 30362.191 | F52: 5460933.5 | G52: 5860913.8 | H52: 66742.574 | I52: 99791.48 | J52: 166534.05 | K52: 36503.841 | L52: 160734.37 | M52: 197238.22 | N52: 6224686.1
B53: 2012.09.30 | C53: 247272.71 | D53: 324281.45 | E53: 47050.532 | F53: 7498099.9 | G53: 8116704.6 | H53: 118610.53 | I53: 147922.4 | J53: 266532.93 | K53: 50077.398 | L53: 184943.93 | M53: 235021.33 | N53: 8618258.8
B54: 2012.12.31 | C54: 332140.66 | D54: 503363.14 | E54: 72438.305 | F54: 10720393 | G54: 11628335 | H54: 236432.52 | I54: 453784.34 | J54: 690216.85 | K54: 110116.2 | L54: 235461.7 | M54: 345577.9 | N54: 12664130
B55: 2013.03.31 | C55: 75892.088 | D55: 72276.751 | E55: 12898.588 | F55: 1829766.7 | G55: 1990834.1 | H55: 21394.781 | I55: 22923.964 | J55: 44318.745 | K55: 4249.89 | L55: 35079.488 | M55: 39329.378 | N55: 2074482.2
B56: 2013.06.30 | C56: 174008.48 | D56: 195942.21 | E56: 28026.757 | F56: 5276597.3 | G56: 5674574.7 | H56: 72303.375 | I56: 63328.807 | J56: 135632.18 | K56: 26234.935 | L56: 111716.2 | M56: 137951.13 | N56: 5948158
B57: 2013.09.30 | C57: 250177.74 | D57: 316876.85 | E57: 44955.373 | F57: 7378273.7 | G57: 7990283.6 | H57: 120165.1 | I57: 94395.994 | J57: 214561.09 | K57: 33264.513 | L57: 140048.04 | M57: 173312.56 | N57: 8378157.3
B58: 2013.12.31 | C58: 336582.65 | D58: 499103.35 | E58: 72357.207 | F58: 10952675 | G58: 11860718 | H58: 230696.09 | I58: 206313.87 | J58: 437009.96 | K58: 98148.085 | L58: 244056.87 | M58: 342204.95 | N58: 12639933
B59: 2014.03.31 | C59: 82094.306 | D59: 75744.523 | E59: 14356.426 | F59: 1916220.6 | G59: 2088415.8 | H59: 16565.106 | I59: 36337.844 | J59: 52902.949 | K59: 2757.3769 | L59: 31387.756 | M59: 34145.133 | N59: 2175463.9
... B62: 2014.12.31 | C62: 349360.46 | D62: 513900.95 | E62: 74323.169 | F62: 11482750 | G62: 12420335 | H62: 188543.19 | I62: 203037.69 | J62: 391580.88 | K62: 136392.8 | L62: 259298.74 | M62: 395691.55 | N62: 13207607
B64: ◄ itzuli

Sheet sarrera eboluzioa FFAA
B1: Foru Aldundietako bateratua | O1: =Aurkibidea!B8 -> 2014ko 4. hiruhilabetea
B2: Sarrera Aurrekontuaren gauzatzearen eboluzioa
B3: (Aitortutako Eskubideak)
O4: mila euro
B5: Aldia | C5: Kap. 1 Zuzeneko zergak | D5: Cap.2 Zeharkako zergak | E5: Kap. 3 Tasak eta beste sarrera batzuk | F5: Kap. 4 Transfer. Arruntak | G5: Kap. 5 Ondare sarrerak | H5: Operazio arruntak guztira | I5: Kap. 6 Inbertsio errealen besterantzeak | J5: Kap. 7 Kapital transfer. | K5: Kapital operazioak guztira | L5: Kap. 8 Finantza-aktiboen aldaketa | M5: Kap. 9 Finantza-pasiboen aldaketa | N5: Finantza-operazioak guztira | O5: Zenbatekoa guztira
B7: 1995.12.31 | C7: 2482406 | D7: 1920909 | E7: 110341 | F7: 162980 | G7: 55732 | H7: 4732369 | I7: 3418 | J7: 46546 | K7: 49964 | L7: 13496 | M7: 167682 | N7: 181179 | O7: 4963512
B8: 1996.12.31 | C8: 2740571 | D8: 2111168 | E8: 125821 | F8: 231651 | G8: 64159 | H8: 5273369 | I8: 1526 | J8: 52866 | K8: 54392 | L8: 14726 | M8: 112974 | N8: 127700 | O8: 5455462
B9: 1997.12.31 | C9: 2869628 | D9: 2971350 | E9: 104363 | F9: 233042 | G9: 46395 | H9: 6224778 | I9: 1502 | J9: 71098 | K9: 72600 | L9: 15731 | M9: 38100 | N9: 53831 | O9: 6351210
B10: 1998.12.31 | C10: 3279309 | D10: 3433081 | E10: 115120 | F10: 214785 | G10: 25785 | H10: 7068080 | I10: 2938 | J10: 68564 | K10: 71502 | L10: 11718 | M10: 173438 | N10: 185156 | O10: 7324737
B11: 1999.12.31 | C11: 3473942 | D11: 3831110 | E11: 111230 | F11: 184502 | G11: 23833 | H11: 7624617 | I11: 7945 | J11: 46550 | K11: 54495 | L11: 12347 | M11: 30051 | N11: 42397 | O11: 7721509
B12: 2000.12.31 | C12: 3694695 | D12: 4270170 | E12: 108813 | F12: 139959 | G12: 33612 | H12: 8247248 | I12: 9455 | J12: 53234 | K12: 62689 | L12: 15043 | M12: . | N12: 15043 | O12: 8324980
B13: 2001.12.31 | C13: 3920977 | D13: 4260605 | E13: 123129 | F13: 114884 | G13: 38529 | H13: 8458123 | I13: 8561 | J13: 106780 | K13: 115342 | L13: 20882 | M13: 122218 | N13: 143100 | O13: 8716565
B14: 2002.12.31 | C14: 4104261 | D14: 4486721 | E14: 140395 | F14: 199952 | G14: 33114 | H14: 8964444 | I14: 11442 | J14: 110036 | K14: 121477 | L14: 6680 | M14: 195000 | N14: 201680 | O14: 9287601
B15: 2003.03.31 | C15: 939179.95 | D15: 972949.92 | E15: 57942.552 | F15: 54586.252 | G15: 1733.4787 | H15: 2026392.2 | I15: 33.90997 | J15: 12135.395 | K15: 12169.305 | L15: 1638.1513 | M15: 0 | N15: 1638.1513 | O15: 2040199.6
B16: 2003.06.30 | C16: 1460465.3 | D16: 2087445.2 | E16: 90741.713 | F16: 107944.79 | G16: 7233.6616 | H16: 3753830.7 | I16: 939.61172 | J16: 22985.1 | K16: 23924.712 | L16: 2413.0501 | M16: 0 | N16: 2413.0501 | O16: 3780168.5
B17: 2003.09.30 | C17: 3117502.6 | D17: 3104043.6 | E17: 124080.03 | F17: 135580.21 | G17: 11749.346 | H17: 6492955.7 | I17: 2674.0853 | J17: 51351.228 | K17: 54025.313 | L17: 5377.0977 | M17: 0 | N17: 5377.0977 | O17: 6552358.1
B18: 2003.12.31 | C18: 4213339.3 | D18: 4878087.1 | E18: 153858.86 | F18: 226058.46 | G18: 25357.563 | H18: 9496701.3 | I18: 2848.8906 | J18: 131804.26 | K18: 134653.15 | L18: 6535.7725 | M18: 61000 | N18: 67535.772 | O18: 9698890.2
B19: 2004.03.31 | C19: 989315.7 | D19: 1173950.6 | E19: 36263.356 | F19: 19829.655 | G19: 2136.0444 | H19: 2221495.4 | I19: 109.26436 | J19: 12233.921 | K19: 12343.185 | L19: 1494.5276 | M19: 0 | N19: 1494.5276 | O19: 2235333.1
B20: 2004.06.30 | C20: 1469837 | D20: 2368620.2 | E20: 78352.633 | F20: 72205.025 | G20: 5586.0984 | H20: 3994600.9 | I20: 990.54294 | J20: 29972.73 | K20: 30963.273 | L20: 2225.858 | M20: 134000 | N20: 136225.86 | O20: 4161790
B21: 2004.09.30 | C21: 3212390.9 | D21: 3526864.3 | E21: 112885.81 | F21: 120979.45 | G21: 8370.5552 | H21: 6981491 | I21: 2102.7121 | J21: 68136.976 | K21: 70239.688 | L21: 1821.9196 | M21: 134000 | N21: 135821.92 | O21: 7187552.6
B22: 2004.12.31 | C22: 4401057 | D22: 5506492 | E22: 159632 | F22: 169046 | G22: 22596 | H22: 10258822 | I22: 3094 | J22: 144039 | K22: 147133 | L22: 2148 | M22: 146001 | N22: 148149 | O22: 10554104
B23: 2005.03.31 | C23: 1062248.5 | D23: 1211680.4 | E23: 36450 | F23: 25008 | G23: 1177 | H23: 2336564 | I23: 513 | J23: 1271 | K23: 1784 | L23: 1474 | M23: 0 | N23: 1474 | O23: 2339822
B24: 2005.06.30 | C24: 1609546 | D24: 2621723 | E24: 83500 | F24: 82844 | G24: 4180 | H24: 4401793 | I24: 1851 | J24: 6238 | K24: 8089 | L24: 2092 | M24: 0 | N24: 2092 | O24: 4411974
... B30: 2006.12.31 | C30: 5748225.1 | D30: 6762176.4 | E30: 205793.73 | F30: 300560.65 | G30: 41024.426 | H30: 13057780 | I30: 11293.39 | J30: 121058.92 | K30: 132352.31 | L30: 21181.425 | M30: 127215.34 | N30: 148396.76 | O30: 13338529
B31: 2007.03.31 | C31: 1345883.9 | D31: 1519741.1 | E31: 58125.425 | F31: 49567.177 | G31: 3876.258 | H31: 2977193.9 | I31: 150.12202 | J31: 24451.082 | K31: 24601.204 | L31: 1403.494 | N31: 1403.494 | O31: 3003198.6
B32: 2007.06.30 | C32: 2202901.5 | D32: 3031111 | E32: 111737.28 | F32: 149266.06 | G32: 9838.4554 | H32: 5504854.3 | I32: 2686.7287 | J32: 31112.761 | K32: 33799.49 | L32: 2254.2986 | N32: 2254.2986 | O32: 5540908.1
B33: 2007.09.30 | C33: 5078000.7 | D33: 4721671.2 | E33: 159709.59 | F33: 227404.75 | G33: 25017.605 | H33: 10211804 | I33: 2687.4637 | J33: 34765.907 | K33: 37453.371 | L33: 2751.0822 | N33: 2751.0822 | O33: 10252008
B34: 2007.12.31 | C34: 6742757.7 | D34: 6988136.1 | E34: 311380.44 | F34: 456661.04 | G34: 50542.391 | H34: 14549478 | I34: 2876.328 | J34: 79475.684 | K34: 82352.012 | L34: 20519.208 | M34: 59000 | N34: 79519.208 | O34: 14711349
B35: 2008.03.31 | C35: 1485134.2 | D35: 1574463.4 | E35: 50740.031 | F35: 34769.318 | G35: 1781.7704 | H35: 3146888.7 | I35: 450.36179 | J35: 29827.197 | K35: 30277.558 | L35: 602.66661 | N35: 602.66661 | O35: 3177768.9
B36: 2008.06.30 | C36: 2354760 | D36: 3093615 | E36: 109390.77 | F36: 197615.39 | G36: 8343.2306 | H36: 5763722.4 | I36: 2863.3422 | J36: 60106.944 | K36: 62970.286 | L36: 2009.9333 | N36: 2009.9333 | O36: 5828702.6
B37: 2008.09.30 | C37: 5141433 | D37: 4465541.9 | E37: 174348.46 | F37: 259804.63 | G37: 28642.509 | H37: 10069771 | I37: 2912.9846 | J37: 124834.87 | K37: 127747.85 | L37: 2409.3159 | M37: 53500 | N37: 55909.316 | O37: 10253428
B38: 2008.12.31 | C38: 6671569.2 | D38: 6181558.1 | E38: 257680.2 | F38: 799252.26 | G38: 50507.388 | H38: 13960567 | I38: 6153.3354 | J38: 159158.12 | K38: 165311.46 | L38: 2892.5078 | M38: 213500 | N38: 216392.51 | O38: 14342271
B39: 2009.03.31 | C39: 1438792.7 | D39: 1472813.3 | E39: 61874.216 | F39: 55219.307 | G39: 540.49333 | H39: 3029240 | I39: 91.01606 | J39: 1148.8154 | K39: 1239.8315 | L39: 28526.086 | N39: 28526.086 | O39: 3059006
B40: 2009.06.30 | C40: 1840289 | D40: 2603410 | E40: 122530.07 | F40: 592798.23 | G40: 1719.5084 | H40: 5160747.9 | I40: 244.48904 | J40: 44084.949 | K40: 44329.438 | L40: 30529.216 | M40: 270000 | N40: 300529.22 | O40: 5505606.5
B41: 2009.09.30 | C41: 3950044.3 | D41: 3611574.3 | E41: 190728.85 | F41: 676375.43 | G41: 6735.4675 | H41: 8435458.3 | I41: 2118.2847 | J41: 61911.174 | K41: 64029.459 | L41: 30905.003 | M41: 270000 | N41: 300905 | O41: 8800392.8
B42: 2009.12.31 | C42: 5455108.5 | D42: 5769079.4 | E42: 252818.36 | F42: 1018980 | G42: 13860.97 | H42: 12509847 | I42: 2491.903 | J42: 112332.14 | K42: 114824.05 | L42: 31281.854 | M42: 354000 | N42: 385281.85 | O42: 13009953
B43: 2010.03.31 | C43: 1395062.1 | D43: 1507409.9 | E43: 67154.434 | F43: 80033.749 | G43: 324.29649 | H43: 3049984.4 | I43: 196.73939 | J43: 38715.083 | K43: 38911.822 | L43: 30985.465 | M43: 0 | N43: 30985.465 | O43: 3119881.7
B44: 2010.06.30 | C44: 1874458.9 | D44: 2731267.4 | E44: 137634.43 | F44: 744992.25 | G44: 1334.1993 | H44: 5489687.2 | I44: 358.52919 | J44: 44418.295 | K44: 44776.824 | L44: 31398.952 | M44: 150000.58 | N44: 181399.53 | O44: 5715863.6
B45: 2010.09.30 | C45: 3829845.7 | D45: 4037114 | E45: 207874.96 | F45: 862839.8 | G45: 3612.0177 | H45: 8941286.5 | I45: 404.91078 | J45: 92881.539 | K45: 93286.449 | L45: 31838.412 | M45: 150000 | N45: 181838.41 | O45: 9216411.4
B46: 2010.12.31 | C46: 5321089.8 | D46: 6140971.2 | E46: 300220.63 | F46: 1098147.8 | G46: 12072.993 | H46: 12872502 | I46: 660.3152 | J46: 111388.27 | K46: 112048.58 | L46: 39508.478 | M46: 494048.24 | N46: 533556.72 | O46: 13518108
...

Sheet  kap 1 eta 2 banakapena
B1: Foru Aldundietako bateratua | K1: =Aurkibidea!B8 -> 2014ko 4. hiruhilabetea
B2: Sarrera Aurrekontuaren gauzatzearen eboluzioa (kap. 1 eta 2ko banakapena)
B3: (Aitortutako Eskubideak)
K4: mila euro
B5: Aldia | C5: Kap. 1 Zuzeneko zergak | D5: 1.1 - P.F.E.Z. | E5: 1.2 - Sozietateak | F5: 1.3 - Zuzeneko beste zerga batzuk | G5: Cap.2 Zeharkako zergak | H5: 2.1 - I. Ondare eskualdaketak etaEJDak. | I5: 2.2 - B.E.Z.a | J5: 2.3 - Zerga bereziak | K5: 2.4 - Gainerako zeharkako zergak
B7: 2003.03.31 | C7: 939179.95 | D7: 885906.21 | E7: 34577.5 | F7: 18696.24 | G7: 972949.92 | H7: 77352.602 | I7: 676547.72 | J7: 204178.66 | K7: 14870.945
B8: 2003.06.30 | C8: 1460465.3 | D8: 1229375.5 | E8: 158190.82 | F8: 72899.063 | G8: 2087445.2 | H8: 164331.01 | I8: 1393779.8 | J8: 493960.69 | K8: 35373.672
B9: 2003.09.30 | C9: 3117502.6 | D9: 2060022.5 | E9: 910502.76 | F9: 146977.3 | G9: 3104043.6 | H9: 254561.4 | I9: 2044924.6 | J9: 752066.54 | K9: 52491.023
B10: 2003.12.31 | C10: 4213339.3 | D10: 3021490.9 | E10: 1046098.8 | F10: 145749.61 | G10: 4878087.1 | H10: 343548.21 | I10: 3280291.1 | J10: 1193054.7 | K10: 61193.147
B11: 2004.03.31 | C11: 989315.7 | D11: 914678.46 | E11: 62655.574 | F11: 11981.668 | G11: 1173950.6 | H11: 104381.43 | I11: 756576.59 | J11: 297313.39 | K11: 15679.183
B12: 2004.06.30 | C12: 1469837 | D12: 1228804.6 | E12: 172793.11 | F12: 68239.269 | G12: 2368620.2 | H12: 200570.66 | I12: 1500388.1 | J12: 630068.61 | K12: 37592.771
B13: 2004.09.30 | C13: 3212390.9 | D13: 2073921.3 | E13: 994501.29 | F13: 143968.34 | G13: 3526864.3 | H13: 301585.79 | I13: 2230070.4 | J13: 939374.45 | K13: 55833.582
B14: 2004.12.31 | C14: 4401057 | D14: 3074929.9 | E14: 1154369.6 | F14: 171757.49 | G14: 5506491.5 | H14: 395798.82 | I14: 3693819.3 | J14: 1329701.5 | K14: 87171.902
B15: 2005.03.31 | C15: 1062248.5 | D15: 964122.78 | E15: 67563.988 | F15: 30561.73 | G15: 1211680.4 | H15: 97196.175 | I15: 809226.18 | J15: 287427.79 | K15: 17830.3
B16: 2005.06.30 | C16: 1609546 | D16: 1343535.6 | E16: 178520.46 | F16: 87489.973 | G16: 2621723 | H16: 200174.12 | I16: 1764011.8 | J16: 615568.54 | K16: 41968.578
B17: 2005.09.30 | C17: 3718027.9 | D17: 2322567.9 | E17: 1214679 | F17: 180781.02 | G17: 4103529.1 | H17: 310965.85 | I17: 2738915.2 | J17: 990867.57 | K17: 62780.45
B18: 2005.12.31 | C18: 5110120.5 | D18: 3415910.4 | E18: 1457779.7 | F18: 236430.35 | G18: 6111916.9 | H18: 424814.46 | I18: 4209745.5 | J18: 1384082.2 | K18: 93274.714
... B38: 2010.12.31 | C38: 5321089.8 | D38: 4115830.1 | E38: 996892.4 | F38: 208367.26 | G38: 6140971.2 | H38: 276753.01 | I38: 4327190.7 | J38: 1438384.7 | K38: 98642.8
B39: 2011.03.31 | C39: =SUM(D39:F39) -> 1468685.2 | D39: 1348465.6 | E39: 72554.788 | F39: 47664.795 | G39: =SUM(H39:K39) -> 1457597 | H39: 42441.309 | I39: 1063018.1 | J39: 329881.15 | K39: 22256.5
B40: 2011.06.30 | C40: 2039861 | D40: 1752228.9 | E40: 208746.58 | F40: 78885.521 | G40: 2833756.8 | H40: 87400.855 | I40: 2046076.6 | J40: 652108.56 | K40: 48170.862
B41: 2011.09.30 | C41: 4273565.3 | D41: 3001515.2 | E41: 1131614.1 | F41: 140436.08 | G41: 4166813.3 | H41: 123087.83 | I41: 2994354.9 | J41: 978314.23 | K41: 71056.404
B42: 2011.12.31 | C42: 5783519.8 | D42: 4394314.3 | E42: 1222433 | F42: 166772.49 | G42: 5931998.7 | H42: 162871.61 | I42: 4290921.1 | J42: 1378796.3 | K42: 99409.683
B43: 2012.03.31 | C43: 1556455.9 | D43: 1366274.5 | E43: 101060.95 | F43: 89120.509 | G43: 1439868.5 | H43: 33463.53 | I43: 1073095.8 | J43: 312159.65 | K43: 21149.585
B44: 2012.06.30 | C44: 2115046.9 | D44: 1733812.6 | E44: 245139.55 | F44: 136094.8 | G44: 2651387 | H44: 62970.616 | I44: 1912737.1 | J44: 630418.75 | K44: 45260.532
B45: 2012.09.30 | C45: 4312505.1 | D45: 3039178.7 | E45: 1075476.4 | F45: 197850 | G45: 3930750.4 | H45: 94675.511 | I45: 2793834.6 | J45: 974746.03 | K45: 67494.265
B46: 2012.12.31 | C46: 5843582.6 | D46: 4401759.1 | E46: 1198027.6 | F46: 243795.95 | G46: 5813085.3 | H46: 123169.32 | I46: 4251362.3 | J46: 1342327.3 | K46: 96226.319
B47: 2013.03.31 | C47: 1472226.2 | D47: 1323241.5 | E47: 102185.09 | F47: 46799.58 | G47: 1406323.9 | H47: 29852.499 | I47: 1047761.8 | J47: 307702.91 | K47: 21006.691
B48: 2013.06.30 | C48: 2101462.6 | D48: 1693878.3 | E48: 267261.49 | F48: 140322.8 | G48: 2630066 | H48: 58218.287 | I48: 1891100 | J48: 642332.6 | K48: 38415.108
B49: 2013.09.30 | C49: 4364841.1 | D49: 2946019.5 | E49: 1041500.6 | F49: 377320.94 | G49: 4029646.5 | H49: 82841.845 | I49: 2919830.3 | J49: 975660.41 | K49: 51314.018
B50: 2013.12.31 | C50: 5899354.1 | D50: 4331187.3 | E50: 1143935.1 | F50: 424231.69 | G50: 5948101.5 | H50: 112945.54 | I50: 4379308.4 | J50: 1386932.4 | K50: 68915.083
B51: 2014.03.31 | C51: 1439763.6 | D51: 1335934.6 | E51: 62746.724 | F51: 41082.318 | G51: 1433054.8 | H51: 28312.742 | I51: 1027217.1 | J51: 363521.55 | K51: 14003.394
... B54: 2014.12.31 | C54: 5905830.1 | D54: 4395722.5 | E54: 1188946.9 | F54: 321160.77 | G54: 6505459.3 | H54: 131301.14 | I54: 4943387 | J54: 1360935.2 | K54: 69836.036
B57: ◄ itzuli

Sheet labupen bateratua EJ-FFAA
B1: Eusko Jaurlaritza eta Foru Aldundietako bateratua | J1: =Aurkibidea!B8 -> 2014ko 4. hiruhilabetea
B2: Eusko Jaurlaritza eta Foru Aldundietako laburpen bateratua
D4: GASTUAK (Aitortutako Obligazioak) | E4: 14/13 % Ald. | I4: SARRERAK (Aitortutako Eskubideak) | J4: 14/13 % Ald.
B6: 1 | C6: Langile-gastuak | D6: 2233965.6 | E6: 1.3396243 | G6: 1 | H6: Zuzeneko zergak | I6: 5905830.1 | J6: -0.027367117
B7: 2 | C7: Funtzionamendu-gastuak | D7: 3799598.9 | E7: 2.680688 | G7: 2 | H7: Zeharkako zergak | I7: 6511159.3 | J7: 9.3544146
B8: 3 | C8: Finantza-gastuak | D8: 326097.21 | E8: 10.788997 | G8: 3 | H8: Tasak eta beste sarrera batzuk | I8: 511503.63 | J8: -3.6075653
B9: 4 | C9: Gastu arruntetarako transf. | D9: 6247818.1 | E9: 3.3660704 | G9: 4 | H9: Transferentzia arruntak | I9: 397914.04 | J9: -1.2420613
B10: 6 | C10: Inbertsio errealak | D10: 520583.17 | E10: -23.818025 | G10: 5 | H10: Ondare-sarrerak | I10: 58242.773 | J10: 1.1682479
B11: 7 | C11: Kapital eragiketetako transf. | D11: 803334.77 | E11: 22.028927 | G11: 6 | H11: Inbertsio errealen besterentzeak | I11: 3356.9462 | J11: 64.161659
B12: 8 | C12: Finanza-aktiboen aldaketa | D12: 221412.88 | E12: -18.966269 | G12: 7 | H12: Kapital eragiketetarako transf. | I12: 345007.54 | J12: -19.666861
B13: 9 | C13: Finanza-pasiboen aldaketa | D13: 739103.54 | E13: 66.47031 | G13: 8 | H13: Finantza-aktiboen aldaketa | I13: 38035.696 | J13: -42.060199
G14: 9 | H14: Finantza-pasiboen aldaketa | I14: 1402866.5 | J14: -7.1928508
C16: Gastuak guztira | D16: 14891914 | E16: 4.1216691 | H16: Sarrerak guztira | I16: 15173917 | J16: 2.1020555
D17: 0 | E17: 0 | I17: 0 | J17: 0
C18: Eragiketa arruntak | D18: 12607480 | E18: 2.9725168 | H18: Eragiketa arruntak | I18: 13384650 | J18: 4.138306
C19: Kapital eragiketak | D19: 1323917.9 | E19: -1.3221525 | H19: Kapital eragiketak | I19: 348364.49 | J19: -19.269608
C20: Finantza eragiketak | D20: 960516.41 | E20: 33.922025 | H20: Finantza eragiketak | I20: 1440902.2 | J20: -8.6440783
D21: 0 | E21: 0 | I21: 0 | J21: 0
C22: Gastuak guztira | D22: 14891914 | E22: 4.1216691 | H22: Sarrerak guztira | I22: 15173917 | J22: 2.1020555
C24: ◄ itzuli

Sheet gastu-ebol EJ-FFAA
B1: Eusko Jaurlaritza eta Foru Aldundietako bateratua | N1: =Aurkibidea!B8 -> 2014ko 4. hiruhilabetea
B2: Gastu Aurrekontuaren gauzatzearen eboluzioa
B3: (Aitortutako Obligazioak)
N4: Mila euro
B5: Aldia | C5: Kap. 1 Langile- gastuak | D5: Kap.2 Funtzionam.-gastuak | E5: Kap. 3 Finantza-gastuak | F5: kap. 4 Gastu arrunterako transferentziak | G5: Operazio arruntak guztira | H5: Kap. 6 Inbertsio errealak | I5: Kap. 7 Kapital eragiketetarako transferentziak | J5: Kapital operazioak guztira | K5: Kap. 8 Finantza-aktiboen aldaketa | L5: Kap. 9 Finantza-pasiboen aldaketa | M5: Finantza-operazioak guztira | N5: Zenbatekoa Guztira
B7: 1995.12.31 | C7: 1014788 | D7: 236413 | E7: 277887 | F7: 2890443 | G7: 4419531 | H7: 558273 | I7: 443916 | J7: 1002189 | K7: 164724 | L7: 256820 | M7: 421545 | N7: 5843265
